BEGIN:VCALENDAR
VERSION:2.0
PRODID:-//Westchester Institute for Human Development - ECPv6.0.10//NONSGML v1.0//EN
CALSCALE:GREGORIAN
METHOD:PUBLISH
X-WR-CALNAME:Westchester Institute for Human Development
X-ORIGINAL-URL:https://www.wihd.org
X-WR-CALDESC:Events for Westchester Institute for Human Development
REFRESH-INTERVAL;VALUE=DURATION:PT1H
X-Robots-Tag:noindex
X-PUBLISHED-TTL:PT1H
BEGIN:VTIMEZONE
TZID:America/New_York
BEGIN:DAYLIGHT
TZOFFSETFROM:-0500
TZOFFSETTO:-0400
TZNAME:EDT
DTSTART:20250309T070000
END:DAYLIGHT
BEGIN:STANDARD
TZOFFSETFROM:-0400
TZOFFSETTO:-0500
TZNAME:EST
DTSTART:20251102T060000
END:STANDARD
END:VTIMEZONE
BEGIN:VEVENT
DTSTART;TZID=America/New_York:20250530T100000
DTEND;TZID=America/New_York:20250530T111500
DTSTAMP:20260421T214436
CREATED:20250331T165410Z
LAST-MODIFIED:20250331T165410Z
UID:20086-1748599200-1748603700@www.wihd.org
SUMMARY:Supplemental Security Income (SSI) Basics
DESCRIPTION:Are you considering applying for Supplemental Security Income (SSI) for your family member? Come to this workshop to learn some tips and tricks to the application process. When and how to apply\, the eligibility requirements and how to best make the process less stressful. \nZoom Registration Link: Click Here
URL:https://www.wihd.org/event/supplemental-security-income-ssi-basics-9/
LOCATION:Zoom
CATEGORIES:Regional,Virtual Stream,WIHD
END:VEVENT
END:VCALENDAR