BEGIN:VCALENDAR
VERSION:2.0
PRODID:-//Westchester Institute for Human Development - ECPv6.0.10//NONSGML v1.0//EN
CALSCALE:GREGORIAN
METHOD:PUBLISH
X-ORIGINAL-URL:https://www.wihd.org
X-WR-CALDESC:Events for Westchester Institute for Human Development
REFRESH-INTERVAL;VALUE=DURATION:PT1H
X-Robots-Tag:noindex
X-PUBLISHED-TTL:PT1H
BEGIN:VTIMEZONE
TZID:America/New_York
BEGIN:DAYLIGHT
TZOFFSETFROM:-0500
TZOFFSETTO:-0400
TZNAME:EDT
DTSTART:20250309T070000
END:DAYLIGHT
BEGIN:STANDARD
TZOFFSETFROM:-0400
TZOFFSETTO:-0500
TZNAME:EST
DTSTART:20251102T060000
END:STANDARD
END:VTIMEZONE
BEGIN:VEVENT
DTSTART;TZID=America/New_York:20250529T093000
DTEND;TZID=America/New_York:20250529T110000
DTSTAMP:20260421T214610
CREATED:20250425T000943Z
LAST-MODIFIED:20250425T000943Z
UID:20137-1748511000-1748516400@www.wihd.org
SUMMARY:Early Intervention to Committee on Preschool Special Education (EI to CPSE) for Families
DESCRIPTION:This presentation will guide parents through the process of transitioning their child from Early Intervention to the Committee on Preschool Special Education. \nZoom Registration Link: Click Here
URL:https://www.wihd.org/event/early-intervention-to-committee-on-preschool-special-education-ei-to-cpse-for-families/
LOCATION:Zoom
CATEGORIES:Regional,Virtual Stream,WIHD
END:VEVENT
END:VCALENDAR