BEGIN:VCALENDAR
VERSION:2.0
PRODID:-//Westchester Institute for Human Development - ECPv6.0.10//NONSGML v1.0//EN
CALSCALE:GREGORIAN
METHOD:PUBLISH
X-WR-CALNAME:Westchester Institute for Human Development
X-ORIGINAL-URL:https://www.wihd.org
X-WR-CALDESC:Events for Westchester Institute for Human Development
REFRESH-INTERVAL;VALUE=DURATION:PT1H
X-Robots-Tag:noindex
X-PUBLISHED-TTL:PT1H
BEGIN:VTIMEZONE
TZID:America/New_York
BEGIN:DAYLIGHT
TZOFFSETFROM:-0500
TZOFFSETTO:-0400
TZNAME:EDT
DTSTART:20250309T070000
END:DAYLIGHT
BEGIN:STANDARD
TZOFFSETFROM:-0400
TZOFFSETTO:-0500
TZNAME:EST
DTSTART:20251102T060000
END:STANDARD
END:VTIMEZONE
BEGIN:VEVENT
DTSTART;TZID=America/New_York:20250325T093000
DTEND;TZID=America/New_York:20250325T104500
DTSTAMP:20260422T022751
CREATED:20250318T125910Z
LAST-MODIFIED:20250318T131204Z
UID:20069-1742895000-1742899500@www.wihd.org
SUMMARY:Office for People with Developmental Disabilities (OPWDD) Services and Eligibility
DESCRIPTION:Please join us for a workshop on OPWDD services and eligibility. The New York State Office for People With Developmental Disabilities (OPWDD) is responsible for coordinating services for New Yorkers with developmental and intellectual disabilities. Through this workshop you will learn about the range of OPWDD services available to you and your loved one\, and about the requirements for service eligibility. \nZoom Registration Link: Click Here
URL:https://www.wihd.org/event/office-for-people-with-developmental-disabilities-opwdd-services-and-eligibility-16/
LOCATION:Zoom
CATEGORIES:Regional,Virtual Stream,WIHD
END:VEVENT
BEGIN:VEVENT
DTSTART;TZID=America/New_York:20250325T180000
DTEND;TZID=America/New_York:20250325T193000
DTSTAMP:20260422T022751
CREATED:20241104T162951Z
LAST-MODIFIED:20250207T125811Z
UID:19559-1742925600-1742931000@www.wihd.org
SUMMARY:Future Planning Series: How Do We Pass The Torch? Transition Planning in Preparation for Aging Series Workshop 6 - Staffing: Putting Together a Workforce That Works for Your Loved One
DESCRIPTION:This 8- workshop series aims to provide caregivers with the directions for creating a transition plan for who next will be responsible for supporting their loved one. At the end of the workshop series\, the caregiver will have the knowledge to create a caregiver ansition plan\, which will include the systems\, people and processes needed to successfully support their loved one so that they live life to the fullest. \nZoom Registration Link: Click Here
URL:https://www.wihd.org/event/future-planning-series-how-do-we-pass-the-torch-transition-planning-in-preparation-for-aging-series-workshop-6-wrap-up/
LOCATION:Zoom
CATEGORIES:Regional,Virtual Stream,WIHD
END:VEVENT
END:VCALENDAR