BEGIN:VCALENDAR
VERSION:2.0
PRODID:-//Westchester Institute for Human Development - ECPv6.0.10//NONSGML v1.0//EN
CALSCALE:GREGORIAN
METHOD:PUBLISH
X-WR-CALNAME:Westchester Institute for Human Development
X-ORIGINAL-URL:https://www.wihd.org
X-WR-CALDESC:Events for Westchester Institute for Human Development
REFRESH-INTERVAL;VALUE=DURATION:PT1H
X-Robots-Tag:noindex
X-PUBLISHED-TTL:PT1H
BEGIN:VTIMEZONE
TZID:America/New_York
BEGIN:DAYLIGHT
TZOFFSETFROM:-0500
TZOFFSETTO:-0400
TZNAME:EDT
DTSTART:20250309T070000
END:DAYLIGHT
BEGIN:STANDARD
TZOFFSETFROM:-0400
TZOFFSETTO:-0500
TZNAME:EST
DTSTART:20251102T060000
END:STANDARD
END:VTIMEZONE
BEGIN:VEVENT
DTSTART;TZID=America/New_York:20250319T120000
DTEND;TZID=America/New_York:20250319T130000
DTSTAMP:20260422T023500
CREATED:20250114T170620Z
LAST-MODIFIED:20250114T170620Z
UID:19813-1742385600-1742389200@www.wihd.org
SUMMARY:OPWDD Self-Direction
DESCRIPTION:Learn about OPWDD’s self-direction services which allows for more choice in OPWDD-funded supports and services. The individual must be eligible for OPWDD services and participating in Care Management services through a Care Coordination Organization (CCO) to be approved for self-direction. Therefore\, it is recommended that you first attend a workshop on OPWDD eligibility if the person with the disability does not already have it. \nZoom Registration Link: Click Here
URL:https://www.wihd.org/event/opwdd-self-direction-12/
LOCATION:Zoom
CATEGORIES:Regional,Virtual Stream,WIHD
END:VEVENT
BEGIN:VEVENT
DTSTART;TZID=America/New_York:20250319T180000
DTEND;TZID=America/New_York:20250319T190000
DTSTAMP:20260422T023500
CREATED:20250224T150353Z
LAST-MODIFIED:20250224T150353Z
UID:20001-1742407200-1742410800@www.wihd.org
SUMMARY:Disability Conversations:  “Hear Our Voices” Self Advocacy Group Meeting
DESCRIPTION:Please Join Us! Disability Conversations Group has educational talks about living with disabilities in an accessible way. Different topics and speakers are chosen each month. \nClick Here for Zoom Registration
URL:https://www.wihd.org/event/disability-conversations-hear-our-voices-self-advocacy-group-meeting-3/
LOCATION:Zoom
CATEGORIES:Regional,Virtual Stream,WIHD
END:VEVENT
BEGIN:VEVENT
DTSTART;TZID=America/New_York:20250319T180000
DTEND;TZID=America/New_York:20250319T190000
DTSTAMP:20260422T023500
CREATED:20250228T185054Z
LAST-MODIFIED:20250228T185054Z
UID:20017-1742407200-1742410800@www.wihd.org
SUMMARY:CPSE to CSE Transition for Parents
DESCRIPTION:The transition from preschool to kindergarten can be a time of excitement but it can also be a source of anxiety. Transitions are made easier when families and providers understand the process. This workshop will help participants to understand the transition process\, to be an active member of the transition team\, to understand the difference between services in CPSE and CSE\, and to understand the purpose of an IEP. Parents will come away from this workshop with a better understanding of what to expect as their children move on to kindergarten. \nZoom Link Click Here \nZoom ID: 995 4076 7133 \nZoom Password: 814730
URL:https://www.wihd.org/event/cpse-to-cse-transition-for-parents/
LOCATION:Zoom
CATEGORIES:Regional,Virtual Stream,WIHD
END:VEVENT
END:VCALENDAR