BEGIN:VCALENDAR
VERSION:2.0
PRODID:-//Westchester Institute for Human Development - ECPv6.0.10//NONSGML v1.0//EN
CALSCALE:GREGORIAN
METHOD:PUBLISH
X-ORIGINAL-URL:https://www.wihd.org
X-WR-CALDESC:Events for Westchester Institute for Human Development
REFRESH-INTERVAL;VALUE=DURATION:PT1H
X-Robots-Tag:noindex
X-PUBLISHED-TTL:PT1H
BEGIN:VTIMEZONE
TZID:America/New_York
BEGIN:DAYLIGHT
TZOFFSETFROM:-0500
TZOFFSETTO:-0400
TZNAME:EDT
DTSTART:20250309T070000
END:DAYLIGHT
BEGIN:STANDARD
TZOFFSETFROM:-0400
TZOFFSETTO:-0500
TZNAME:EST
DTSTART:20251102T060000
END:STANDARD
END:VTIMEZONE
BEGIN:VEVENT
DTSTART;TZID=America/New_York:20250304T120000
DTEND;TZID=America/New_York:20250304T130000
DTSTAMP:20260422T023532
CREATED:20250204T001747Z
LAST-MODIFIED:20250204T001747Z
UID:19952-1741089600-1741093200@www.wihd.org
SUMMARY:EI (Early Intervention) to CPSE (Committee on Preschool Special Education) for Families
DESCRIPTION:This presentation will guide parents through the process of transitioning their child from Early Intervention to the Committee on Preschool Special Education. \nZoom Registration Link: Click Here
URL:https://www.wihd.org/event/ei-early-intervention-to-cpse-committee-on-preschool-special-education-for-families/
LOCATION:Zoom
CATEGORIES:Regional,Virtual Stream,WIHD
END:VEVENT
BEGIN:VEVENT
DTSTART;TZID=America/New_York:20250304T120000
DTEND;TZID=America/New_York:20250304T200000
DTSTAMP:20260422T023532
CREATED:20241216T004806Z
LAST-MODIFIED:20250131T222440Z
UID:19721-1741089600-1741118400@www.wihd.org
SUMMARY:Employment and You:  Resources and Strategies for Success
DESCRIPTION:Employment and You: Resources and Strategies for Success \nMarch 3 – March 6\, 2025 \nTimes: 12:00pm – 8:00pm \nWe will be hosting two sessions per day: One session at approximately noon and the other session at approximately 6pm. Specific details on the timing will be available soon. \nEmployment for people with Intellectual and Developmental Disabilities is currently at 15%\, with many people unemployed or underemployed despite having work skills. Join us for this free\, virtual conference on topics that will outline the key areas that can lead to employment. Experts from across the state and country will be presenting innovative approaches and key resources to achieve successful work. \nLearn about: \n– Resources available \n– Strategies for Success \n– Key organizations that provide assistance \n– Benefits Planning \n– New approaches to employment \n\nClick Here for Flyer and Registration
URL:https://www.wihd.org/event/employment-and-you-resources-and-strategies-for-success-2/
LOCATION:Zoom
CATEGORIES:Regional,Virtual Stream,WIHD
END:VEVENT
END:VCALENDAR