BEGIN:VCALENDAR
VERSION:2.0
PRODID:-//Westchester Institute for Human Development - ECPv6.0.10//NONSGML v1.0//EN
CALSCALE:GREGORIAN
METHOD:PUBLISH
X-WR-CALNAME:Westchester Institute for Human Development
X-ORIGINAL-URL:https://www.wihd.org
X-WR-CALDESC:Events for Westchester Institute for Human Development
REFRESH-INTERVAL;VALUE=DURATION:PT1H
X-Robots-Tag:noindex
X-PUBLISHED-TTL:PT1H
BEGIN:VTIMEZONE
TZID:America/New_York
BEGIN:DAYLIGHT
TZOFFSETFROM:-0500
TZOFFSETTO:-0400
TZNAME:EDT
DTSTART:20250309T070000
END:DAYLIGHT
BEGIN:STANDARD
TZOFFSETFROM:-0400
TZOFFSETTO:-0500
TZNAME:EST
DTSTART:20251102T060000
END:STANDARD
END:VTIMEZONE
BEGIN:VEVENT
DTSTART;TZID=America/New_York:20250225T120000
DTEND;TZID=America/New_York:20250225T130000
DTSTAMP:20260422T023504
CREATED:20250206T203109Z
LAST-MODIFIED:20250206T203109Z
UID:19963-1740484800-1740488400@www.wihd.org
SUMMARY:Explicit Vocabulary Instruction for Parents
DESCRIPTION:The presentation will discuss fostering vocabulary development at home. Participants will be able to explain the importance of vocabulary instruction for their children in the elementary grades and describe ways to incorporate instruction in the home.  \nZoom Registration Link: Click Here
URL:https://www.wihd.org/event/explicit-vocabulary-instruction-for-parents-5/
LOCATION:Zoom
CATEGORIES:Regional,Virtual Stream,WIHD
END:VEVENT
BEGIN:VEVENT
DTSTART;TZID=America/New_York:20250225T180000
DTEND;TZID=America/New_York:20250225T193000
DTSTAMP:20260422T023504
CREATED:20241101T175642Z
LAST-MODIFIED:20250207T125208Z
UID:19544-1740506400-1740511800@www.wihd.org
SUMMARY:Future Planning Series: How Do We Pass The Torch?  Transition Planning in Preparation for Aging Series  Workshop 5 - Exploring NYS Housing Options Outside of OPWDD Certified Residential Facilities
DESCRIPTION:This 8- workshop series aims to provide caregivers with the directions for creating a transition plan for who next will be responsible for supporting their loved one. At the end of the workshop series\, the caregiver will have the knowledge to create a caregiver transition plan\, which will include the systems\, people and processes needed to successfully support their loved one so that they live life to the fullest. \nWorkshop 5: Housing \nNavigating the housing landscape is a priority in planning for the future of our loved ones with intellectual or developmental disabilities. Understanding the array of housing options and how to access them is an important part of the planning process. Join Carol Napierski Vice President of Program Development and Grant Management\, New York Alliance for Inclusion and Innovation\, and Seth Greenman\, NY Alliance Housing Consultant for a presentation of housing navigation. \nZoom Registration Link: Click Here
URL:https://www.wihd.org/event/future-planning-series-how-do-we-pass-the-torch-transition-planning-in-preparation-for-aging-series-workshop-5-housing-opportunities-in-nys/
LOCATION:Zoom
CATEGORIES:Regional,Virtual Stream,WIHD
END:VEVENT
END:VCALENDAR