BEGIN:VCALENDAR
VERSION:2.0
PRODID:-//Westchester Institute for Human Development - ECPv6.0.10//NONSGML v1.0//EN
CALSCALE:GREGORIAN
METHOD:PUBLISH
X-WR-CALNAME:Westchester Institute for Human Development
X-ORIGINAL-URL:https://www.wihd.org
X-WR-CALDESC:Events for Westchester Institute for Human Development
REFRESH-INTERVAL;VALUE=DURATION:PT1H
X-Robots-Tag:noindex
X-PUBLISHED-TTL:PT1H
BEGIN:VTIMEZONE
TZID:America/New_York
BEGIN:DAYLIGHT
TZOFFSETFROM:-0500
TZOFFSETTO:-0400
TZNAME:EDT
DTSTART:20250309T070000
END:DAYLIGHT
BEGIN:STANDARD
TZOFFSETFROM:-0400
TZOFFSETTO:-0500
TZNAME:EST
DTSTART:20251102T060000
END:STANDARD
END:VTIMEZONE
BEGIN:VEVENT
DTSTART;TZID=America/New_York:20250114T120000
DTEND;TZID=America/New_York:20250114T130000
DTSTAMP:20260422T055646
CREATED:20241114T204538Z
LAST-MODIFIED:20241114T204538Z
UID:19632-1736856000-1736859600@www.wihd.org
SUMMARY:Family Forum: Preparing for Your Child’s Annual Review
DESCRIPTION:Parents are integral partners in the special education process. Join this conversation as we explore how parents can effectively prepare for the annual review and be an effective member of the CSE. Learn about planning strategies\, approaching differences of opinion\, and keeping the focus on your child. \nZoom Link: Click Here
URL:https://www.wihd.org/event/family-forum-preparing-for-your-childs-annual-review-5/
LOCATION:Zoom
CATEGORIES:Regional,Virtual Stream,WIHD
END:VEVENT
BEGIN:VEVENT
DTSTART;TZID=America/New_York:20250114T120000
DTEND;TZID=America/New_York:20250114T130000
DTSTAMP:20260422T055646
CREATED:20241216T172811Z
LAST-MODIFIED:20241216T172811Z
UID:19737-1736856000-1736859600@www.wihd.org
SUMMARY:Office for People with Developmental Disabilities  (OPWDD) Services and Eligibility
DESCRIPTION:Please join us for a workshop on OPWDD services and eligibility. The New York State Office for People With Developmental Disabilities (OPWDD) is responsible for coordinating services for New Yorkers with developmental and intellectual disabilities. Through this workshop you will learn about the range of OPWDD services available to you and your loved one\, and about the requirements for service eligibility. \nZoom Registration Link: Click Here
URL:https://www.wihd.org/event/office-for-people-with-developmental-disabilities-opwdd-services-and-eligibility-11/
LOCATION:Zoom
CATEGORIES:Regional,Virtual Stream,WIHD
END:VEVENT
BEGIN:VEVENT
DTSTART;TZID=America/New_York:20250114T180000
DTEND;TZID=America/New_York:20250114T190000
DTSTAMP:20260422T055646
CREATED:20241125T155333Z
LAST-MODIFIED:20241125T155333Z
UID:19654-1736877600-1736881200@www.wihd.org
SUMMARY:CPSE to CSE Transition for Parents/Planificación para Transición de Educación Especial PreEscolar a Kindergarten (CPSE a CSE)
DESCRIPTION:The transition from preschool to kindergarten can be a time of excitement but it can also be a source of anxiety. Transitions are made easier when families and providers understand the process. This workshop will help participants to understand the transition process\, to be an active member of the transition team\, to understand the difference between services in CPSE and CSE\, and to understand the purpose of an IEP. Parents will come away from this workshop with a better understanding of what to expect as their children move on to kindergarten. \n*This training will be given in English and Spanish* \nPlanificación para Transición de Educación Especial PreEscolar a Kindergarten (CPSE a CSE) \nEste taller apoyará a los padres mientras se preparan para la transición de su hijo de la educación especial preescolar al kindergarten. Los temas cubiertos incluyen: Entender las diferencias entre el Comité para la Educación Especial Preescolar (CPSE) y el Comité para la Educación Especial (CSE)\, entender el proceso de transición de CPSE a CSE\, aprender cómo ser un miembro activo del equipo de transición\, entender el propósito de un Programa de Educación Individualizado (IEP). Este taller se llevará a cabo a través de ZOOM. *Por favor\, especifique si prefiere materiales en español y traducción al español para la sesión.* \nPresented by: Lower Hudson Family and Community Engagement (FACE) Center\, NYSED OSE Partnership\, and Greenburgh Central School District \nClick Here to Register/Ingresa Aquí Para Registrar
URL:https://www.wihd.org/event/cpse-to-cse-transition-for-parents-planificacion-para-transicion-de-educacion-especial-preescolar-a-kindergarten-cpse-a-cse/
LOCATION:Zoom
CATEGORIES:Regional,Virtual Stream,WIHD
END:VEVENT
BEGIN:VEVENT
DTSTART;TZID=America/New_York:20250114T180000
DTEND;TZID=America/New_York:20250114T190000
DTSTAMP:20260422T055646
CREATED:20241209T153056Z
LAST-MODIFIED:20241209T154131Z
UID:19682-1736877600-1736881200@www.wihd.org
SUMMARY:Relationship Skills Group: Self-Advocates at the Community Support Network
DESCRIPTION:Monthly Relationship Skills Group: Self-Advocates at the Community Support Network \nClick Here for Registration
URL:https://www.wihd.org/event/relationship-skills-group-self-advocates-at-the-community-support-network-3/
LOCATION:Zoom
CATEGORIES:Regional,Virtual Stream,WIHD
END:VEVENT
END:VCALENDAR