BEGIN:VCALENDAR
VERSION:2.0
PRODID:-//Westchester Institute for Human Development - ECPv6.0.10//NONSGML v1.0//EN
CALSCALE:GREGORIAN
METHOD:PUBLISH
X-ORIGINAL-URL:https://www.wihd.org
X-WR-CALDESC:Events for Westchester Institute for Human Development
REFRESH-INTERVAL;VALUE=DURATION:PT1H
X-Robots-Tag:noindex
X-PUBLISHED-TTL:PT1H
BEGIN:VTIMEZONE
TZID:America/New_York
BEGIN:DAYLIGHT
TZOFFSETFROM:-0500
TZOFFSETTO:-0400
TZNAME:EDT
DTSTART:20240310T070000
END:DAYLIGHT
BEGIN:STANDARD
TZOFFSETFROM:-0400
TZOFFSETTO:-0500
TZNAME:EST
DTSTART:20241103T060000
END:STANDARD
END:VTIMEZONE
BEGIN:VEVENT
DTSTART;TZID=America/New_York:20241113T120000
DTEND;TZID=America/New_York:20241113T130000
DTSTAMP:20260422T090603
CREATED:20241002T151732Z
LAST-MODIFIED:20241028T150144Z
UID:19372-1731499200-1731502800@www.wihd.org
SUMMARY:Office for People with Developmental Disabilities  (OPWDD) Services and Eligibility
DESCRIPTION:Learn about OPWDD’s self-direction services which allows for more choice in OPWDD-funded supports and services. The individual must be eligible for OPWDD services and participating in Care Management services through a Care Coordination Organization (CCO) to be approved for self-direction. Therefore\, it is recommended that you first attend a workshop on OPWDD eligibility if the person with the disability does not already have it. \nZoom Registration Link: Click Here \n 
URL:https://www.wihd.org/event/office-for-people-with-developmental-disabilities-opwdd-services-and-eligibility-9/
LOCATION:Zoom
CATEGORIES:Regional,Virtual Stream,WIHD
END:VEVENT
END:VCALENDAR