BEGIN:VCALENDAR
VERSION:2.0
PRODID:-//Westchester Institute for Human Development - ECPv6.0.10//NONSGML v1.0//EN
CALSCALE:GREGORIAN
METHOD:PUBLISH
X-WR-CALNAME:Westchester Institute for Human Development
X-ORIGINAL-URL:https://www.wihd.org
X-WR-CALDESC:Events for Westchester Institute for Human Development
REFRESH-INTERVAL;VALUE=DURATION:PT1H
X-Robots-Tag:noindex
X-PUBLISHED-TTL:PT1H
BEGIN:VTIMEZONE
TZID:America/New_York
BEGIN:DAYLIGHT
TZOFFSETFROM:-0500
TZOFFSETTO:-0400
TZNAME:EDT
DTSTART:20240310T070000
END:DAYLIGHT
BEGIN:STANDARD
TZOFFSETFROM:-0400
TZOFFSETTO:-0500
TZNAME:EST
DTSTART:20241103T060000
END:STANDARD
END:VTIMEZONE
BEGIN:VEVENT
DTSTART;TZID=America/New_York:20241106T090000
DTEND;TZID=America/New_York:20241106T101500
DTSTAMP:20260422T090454
CREATED:20241011T174615Z
LAST-MODIFIED:20241011T205953Z
UID:19405-1730883600-1730888100@www.wihd.org
SUMMARY:Toma de decisiones con apoyo: una alternativa a la tutela / Supported Decision Making: An Alternative to Guardianship
DESCRIPTION:Miércoles 6 de Noviembre del 2024 – 9:00 am a 10:15 am \nWednesday\, November 6\, 2024 – 9:00 am to 10:15 am \nEste taller se impartirá únicamente en español. \nThis workshop will be given in Spanish only. \nLa Toma de decisiones con apoyo es una alternativa a la tutela que\, a diferencia de esta última\, le permite a un individuo con una discapacidad intelectual o del desarrollo (DI/D) preservar su derecho a tomar decisiones por sí mismo mientras recibe apoyo de personas que ha elegido. Acompáñenos a nuestra presentación con Stephanie Avendaño. Stephanie es una mentora con SDMNY\, la organización que redacta y gestiona los acuerdos de toma de decisiones con apoyo en el estado de Nueva York. \nSupported Decision-Making is an alternative to guardianship which\, unlike guardianship\, allows an individual with an intellectual or developmental disability (I/DD) to retain their legal decision-making rights while being supported in decision-making by the people they choose. Join us for a presentation by Stephanie Avendaño. Stephanie is a mentor with SDMNY\, the organization that drafts and oversees supported decision-making agreements in New York State. \nEnlace de Zoom para la registracion: Haga clic aqui \nZoom Registration Link: Click Here
URL:https://www.wihd.org/event/toma-de-decisiones-con-apoyo-una-alternativa-a-la-tutela-supported-decision-making-an-alternative-to-guardianship-2/
LOCATION:Zoom
CATEGORIES:Regional,Virtual Stream,WIHD
END:VEVENT
END:VCALENDAR