BEGIN:VCALENDAR
VERSION:2.0
PRODID:-//Westchester Institute for Human Development - ECPv6.0.10//NONSGML v1.0//EN
CALSCALE:GREGORIAN
METHOD:PUBLISH
X-ORIGINAL-URL:https://www.wihd.org
X-WR-CALDESC:Events for Westchester Institute for Human Development
REFRESH-INTERVAL;VALUE=DURATION:PT1H
X-Robots-Tag:noindex
X-PUBLISHED-TTL:PT1H
BEGIN:VTIMEZONE
TZID:America/New_York
BEGIN:DAYLIGHT
TZOFFSETFROM:-0500
TZOFFSETTO:-0400
TZNAME:EDT
DTSTART:20240310T070000
END:DAYLIGHT
BEGIN:STANDARD
TZOFFSETFROM:-0400
TZOFFSETTO:-0500
TZNAME:EST
DTSTART:20241103T060000
END:STANDARD
END:VTIMEZONE
BEGIN:VEVENT
DTSTART;TZID=America/New_York:20240822T120000
DTEND;TZID=America/New_York:20240822T130000
DTSTAMP:20260422T185104
CREATED:20240722T111103Z
LAST-MODIFIED:20240722T111103Z
UID:19156-1724328000-1724331600@www.wihd.org
SUMMARY:Transition Preschool Special Education to Kindergarten (CPSE to CSE)
DESCRIPTION:This online training will support parents as they prepare for their child’s transition from preschool special education to kindergarten. Topics covered include: understanding the differences between Committee for Preschool Special Education (CPSE) and Committee for Special Education (CSE)\, understanding the transition process from CPSE to CSE\, learning how to be an active member of the transition team\, understanding the purpose of an Individualized Education Program (IEP). \nZoom Registration Link: Click Here
URL:https://www.wihd.org/event/transition-preschool-special-education-to-kindergarten-cpse-to-cse-3/
LOCATION:Zoom
CATEGORIES:Regional,Virtual Stream,WIHD
END:VEVENT
BEGIN:VEVENT
DTSTART;TZID=America/New_York:20240822T120000
DTEND;TZID=America/New_York:20240822T130000
DTSTAMP:20260422T185104
CREATED:20240724T153906Z
LAST-MODIFIED:20240819T155123Z
UID:19169-1724328000-1724331600@www.wihd.org
SUMMARY:CANCELED!!!                                 Monthly Decision Making Series  Workshop #3: Guardianship Workshop
DESCRIPTION:CANCELED:  We apologize that this event has been canceled.  We will be posting a new date on our calendar.   \nJoin us for our three-workshop series where we will present instruments and methods used to support loved ones with disabilities in making choices as they approach the age of adulthood. \nWorkshop #3: Guardianship Workshop \nThis workshop is intended for individuals who have already attended our monthly Supported Decision Making\, Guardianship\, and other Alternatives workshop\, and have determined that guardianship is the most appropriate alternative. Since guardianship is considered the most restrictive form of decision support\, it is recommended that you also attend the Digging in to Supported Decision-Making workshop before signing up for this one. We will review the process of putting together a petition for guardianship and the documentation requirements.
URL:https://www.wihd.org/event/monthly-decision-making-series-workshop-3-guardianship-workshop-9/
LOCATION:Zoom
CATEGORIES:Regional,Virtual Stream,WIHD
END:VEVENT
END:VCALENDAR