BEGIN:VCALENDAR
VERSION:2.0
PRODID:-//Westchester Institute for Human Development - ECPv6.0.10//NONSGML v1.0//EN
CALSCALE:GREGORIAN
METHOD:PUBLISH
X-ORIGINAL-URL:https://www.wihd.org
X-WR-CALDESC:Events for Westchester Institute for Human Development
REFRESH-INTERVAL;VALUE=DURATION:PT1H
X-Robots-Tag:noindex
X-PUBLISHED-TTL:PT1H
BEGIN:VTIMEZONE
TZID:America/New_York
BEGIN:DAYLIGHT
TZOFFSETFROM:-0500
TZOFFSETTO:-0400
TZNAME:EDT
DTSTART:20240310T070000
END:DAYLIGHT
BEGIN:STANDARD
TZOFFSETFROM:-0400
TZOFFSETTO:-0500
TZNAME:EST
DTSTART:20241103T060000
END:STANDARD
END:VTIMEZONE
BEGIN:VEVENT
DTSTART;TZID=America/New_York:20240724T090000
DTEND;TZID=America/New_York:20240724T140000
DTSTAMP:20260422T201648
CREATED:20231006T144651Z
LAST-MODIFIED:20231006T144651Z
UID:17961-1721811600-1721829600@www.wihd.org
SUMMARY:Special Education 101: Training of the Parent Member
DESCRIPTION:We offer our 4-hour Virtual Parent Member Training four times per year\, via Zoom. Participants will learn about the entire Committee for Special Education (CSE) process\, and those eligible can join committee meetings as a volunteer Parent Member. This is wonderful opportunity to build community in your district\, support other parents\, and learn more about the CSE process to support your own child! While this training is open to anyone who would like to learn more about special education\, parents or guardians whose child has or had an IEP in the last 5 years\, will receive a certificate for submission to their school district to serve as a Parent Member at CPSE/CSE meetings. \nNote: This is a four-hour training in two parts\, 9-11 am and 12-2 pm with a one-hour break for lunch. Four hours must be completed to receive certification. \nZoom Registration Link: Click Here
URL:https://www.wihd.org/event/special-education-101-training-of-the-parent-member-3/
LOCATION:Zoom
CATEGORIES:Regional,Virtual Stream,WIHD
END:VEVENT
BEGIN:VEVENT
DTSTART;TZID=America/New_York:20240724T120000
DTEND;TZID=America/New_York:20240724T130000
DTSTAMP:20260422T201648
CREATED:20240710T155142Z
LAST-MODIFIED:20240710T155502Z
UID:19138-1721822400-1721826000@www.wihd.org
SUMMARY:OPWDD Self-Direction
DESCRIPTION:Learn about OPWDD’s self-direction services which allows for more choice in OPWDD-funded supports and services. The individual must be eligible for OPWDD services\, enrolled in the Home and Community Based (HCBS) Waiver\, and participating in Care Management services through a Care Coordination Organization (CCO) to be approved for self-direction. Therefore\, it is recommended that you first attend a workshop on OPWDD eligibility if the person with the disability does not already have it. \nZoom Registration Link: Click Here
URL:https://www.wihd.org/event/opwdd-self-direction-5/
LOCATION:Zoom
CATEGORIES:Regional,Virtual Stream,WIHD
END:VEVENT
END:VCALENDAR