BEGIN:VCALENDAR
VERSION:2.0
PRODID:-//Westchester Institute for Human Development - ECPv6.0.10//NONSGML v1.0//EN
CALSCALE:GREGORIAN
METHOD:PUBLISH
X-ORIGINAL-URL:https://www.wihd.org
X-WR-CALDESC:Events for Westchester Institute for Human Development
REFRESH-INTERVAL;VALUE=DURATION:PT1H
X-Robots-Tag:noindex
X-PUBLISHED-TTL:PT1H
BEGIN:VTIMEZONE
TZID:America/New_York
BEGIN:DAYLIGHT
TZOFFSETFROM:-0500
TZOFFSETTO:-0400
TZNAME:EDT
DTSTART:20240310T070000
END:DAYLIGHT
BEGIN:STANDARD
TZOFFSETFROM:-0400
TZOFFSETTO:-0500
TZNAME:EST
DTSTART:20241103T060000
END:STANDARD
END:VTIMEZONE
BEGIN:VEVENT
DTSTART;TZID=America/New_York:20240625T120000
DTEND;TZID=America/New_York:20240625T130000
DTSTAMP:20260422T215839
CREATED:20240603T220700Z
LAST-MODIFIED:20240603T220700Z
UID:19057-1719316800-1719320400@www.wihd.org
SUMMARY:Monthly Decision Making Series Workshop #1: Supported Decision-Making (SDM)\, Guardianship\, and other Alternatives
DESCRIPTION:Join us for our three-workshop series where we will present instruments and methods used to support loved ones with disabilities in making choices as they approach the age of adulthood. \nWorkshop #1: Supported Decision-Making (SDM)\, Guardianship\, and other Alternatives \nMany parents and caregivers have questions about how best their loved one with intellectual and developmental disabilities may be supported in making decisions as an adult. What are the concerns around guardianship? What about Supported Decision Making? How do advance directives such as health care proxies and durable power of attorney factor in? This workshop should be taken before the Guardianship and Digging into Supported Decision-Making workshops. If you have already taken this WIHD zoom workshop\, please register instead for the Digging in to Supported Decision-Making workshop. \nZoom Registration Link: Click Here
URL:https://www.wihd.org/event/monthly-decision-making-series-workshop-1-supported-decision-making-sdm-guardianship-and-other-alternatives-7/
LOCATION:Zoom
CATEGORIES:Regional,Virtual Stream,WIHD
END:VEVENT
BEGIN:VEVENT
DTSTART;TZID=America/New_York:20240625T183000
DTEND;TZID=America/New_York:20240625T200000
DTSTAMP:20260422T215839
CREATED:20240430T145818Z
LAST-MODIFIED:20240621T225018Z
UID:18652-1719340200-1719345600@www.wihd.org
SUMMARY:Life-Skills Workshop Series Session #3
DESCRIPTION:Workshop 3 will be in a moderated panel format. We are thrilled to have Paul Evangelista and Dan Zarro\, together with their moms Eleanor Evangelista and Tricia Zarro with us to share their life-skills journey.  Paul and Dan are both young adults with autism. \nLife-skills\, or daily living skills\, are abilities that our loved ones with intellectual and developmental disabilities need to achieve their highest level of independence. These include skills related to managing money\, personal hygiene\, medication management\, taking care of living spaces\, laundry\, cooking\, transportation\, and shopping. \nPlease join us for a three-workshop series for caregivers about supporting life-skills learning for children\, teens and young adults with intellectual or developmental disabilities. You will need to come to the workshop with at least one idea for a life-skill that you want your loved one to work on. \nWe will cover: \n· The process of teaching and reinforcing life-skills \n· The self-advocate’s perspective on the challenges in developing these skills \nZoom Registration Link: Click here
URL:https://www.wihd.org/event/life-skills-workshop-series-session-3/
LOCATION:Zoom
CATEGORIES:Regional,Virtual Stream,WIHD
END:VEVENT
END:VCALENDAR