BEGIN:VCALENDAR
VERSION:2.0
PRODID:-//Westchester Institute for Human Development - ECPv6.0.10//NONSGML v1.0//EN
CALSCALE:GREGORIAN
METHOD:PUBLISH
X-ORIGINAL-URL:https://www.wihd.org
X-WR-CALDESC:Events for Westchester Institute for Human Development
REFRESH-INTERVAL;VALUE=DURATION:PT1H
X-Robots-Tag:noindex
X-PUBLISHED-TTL:PT1H
BEGIN:VTIMEZONE
TZID:America/New_York
BEGIN:DAYLIGHT
TZOFFSETFROM:-0500
TZOFFSETTO:-0400
TZNAME:EDT
DTSTART:20240310T070000
END:DAYLIGHT
BEGIN:STANDARD
TZOFFSETFROM:-0400
TZOFFSETTO:-0500
TZNAME:EST
DTSTART:20241103T060000
END:STANDARD
END:VTIMEZONE
BEGIN:VEVENT
DTSTART;TZID=America/New_York:20240619T180000
DTEND;TZID=America/New_York:20240619T190000
DTSTAMP:20260422T215839
CREATED:20240603T163527Z
LAST-MODIFIED:20240603T163745Z
UID:19051-1718820000-1718823600@www.wihd.org
SUMMARY:"Hear Our Voices” Self-Advocacy Monthly Group Meeting
DESCRIPTION:“Hear Our Voices” Self-Advocacy Monthly Group Meeting \nZoom Registration Link:  Click Here
URL:https://www.wihd.org/event/hear-our-voices-self-advocacy-monthly-group-meeting-5/
LOCATION:Zoom
CATEGORIES:Regional,Virtual Stream,WIHD
ORGANIZER;CN="WIHD%20Self%20Advocacy%20Group":MAILTO:mlevitz@wihd.org
END:VEVENT
END:VCALENDAR