BEGIN:VCALENDAR
VERSION:2.0
PRODID:-//Westchester Institute for Human Development - ECPv6.0.10//NONSGML v1.0//EN
CALSCALE:GREGORIAN
METHOD:PUBLISH
X-ORIGINAL-URL:https://www.wihd.org
X-WR-CALDESC:Events for Westchester Institute for Human Development
REFRESH-INTERVAL;VALUE=DURATION:PT1H
X-Robots-Tag:noindex
X-PUBLISHED-TTL:PT1H
BEGIN:VTIMEZONE
TZID:America/New_York
BEGIN:DAYLIGHT
TZOFFSETFROM:-0500
TZOFFSETTO:-0400
TZNAME:EDT
DTSTART:20240310T070000
END:DAYLIGHT
BEGIN:STANDARD
TZOFFSETFROM:-0400
TZOFFSETTO:-0500
TZNAME:EST
DTSTART:20241103T060000
END:STANDARD
END:VTIMEZONE
BEGIN:VEVENT
DTSTART;TZID=America/New_York:20240613T120000
DTEND;TZID=America/New_York:20240613T130000
DTSTAMP:20260422T215949
CREATED:20240522T003459Z
LAST-MODIFIED:20240522T141237Z
UID:19030-1718280000-1718283600@www.wihd.org
SUMMARY:Explicit Vocabulary Instruction for Families
DESCRIPTION:Come to this session for parents and caregivers to learn how to support your child’s development of new vocabulary\, the importance of vocabulary instruction and ways to incorporate vocabulary instruction at home for your children who are in Pre-K through grade 6. \nZoom Registration Link: Click Here
URL:https://www.wihd.org/event/explicit-vocabulary-instruction-for-families-4/
LOCATION:Zoom
CATEGORIES:Regional,Virtual Stream,WIHD
END:VEVENT
END:VCALENDAR