BEGIN:VCALENDAR
VERSION:2.0
PRODID:-//Westchester Institute for Human Development - ECPv6.0.10//NONSGML v1.0//EN
CALSCALE:GREGORIAN
METHOD:PUBLISH
X-ORIGINAL-URL:https://www.wihd.org
X-WR-CALDESC:Events for Westchester Institute for Human Development
REFRESH-INTERVAL;VALUE=DURATION:PT1H
X-Robots-Tag:noindex
X-PUBLISHED-TTL:PT1H
BEGIN:VTIMEZONE
TZID:America/New_York
BEGIN:DAYLIGHT
TZOFFSETFROM:-0500
TZOFFSETTO:-0400
TZNAME:EDT
DTSTART:20240310T070000
END:DAYLIGHT
BEGIN:STANDARD
TZOFFSETFROM:-0400
TZOFFSETTO:-0500
TZNAME:EST
DTSTART:20241103T060000
END:STANDARD
END:VTIMEZONE
BEGIN:VEVENT
DTSTART;TZID=America/New_York:20240506T163000
DTEND;TZID=America/New_York:20240506T193000
DTSTAMP:20260422T234604
CREATED:20240405T202040Z
LAST-MODIFIED:20240405T202344Z
UID:18590-1715013000-1715023800@www.wihd.org
SUMMARY:Transition Linkages Fair at the Westchester County Center
DESCRIPTION:An Event for Parents\, Educators & Advocates to Learn More About Adult Services & Transition Planning \nClick Here for Flyer and Registration \n 
URL:https://www.wihd.org/event/transition-linkages-fair-4/
LOCATION:Westchester County Center\, 198 Central Avenue\, White Plains\, NY\, 10606
CATEGORIES:Regional,Virtual Stream,WIHD
ORGANIZER;CN="Linkages%20Fair%20Committee":MAILTO:cgearing@arcwestchester.org
END:VEVENT
END:VCALENDAR