BEGIN:VCALENDAR
VERSION:2.0
PRODID:-//Westchester Institute for Human Development - ECPv6.0.10//NONSGML v1.0//EN
CALSCALE:GREGORIAN
METHOD:PUBLISH
X-ORIGINAL-URL:https://www.wihd.org
X-WR-CALDESC:Events for Westchester Institute for Human Development
REFRESH-INTERVAL;VALUE=DURATION:PT1H
X-Robots-Tag:noindex
X-PUBLISHED-TTL:PT1H
BEGIN:VTIMEZONE
TZID:America/New_York
BEGIN:DAYLIGHT
TZOFFSETFROM:-0500
TZOFFSETTO:-0400
TZNAME:EDT
DTSTART:20240310T070000
END:DAYLIGHT
BEGIN:STANDARD
TZOFFSETFROM:-0400
TZOFFSETTO:-0500
TZNAME:EST
DTSTART:20241103T060000
END:STANDARD
END:VTIMEZONE
BEGIN:VEVENT
DTSTART;TZID=America/New_York:20240423T183000
DTEND;TZID=America/New_York:20240423T200000
DTSTAMP:20260423T013326
CREATED:20240409T172708Z
LAST-MODIFIED:20240410T133840Z
UID:18594-1713897000-1713902400@www.wihd.org
SUMMARY:Life-Skills Workshop Series
DESCRIPTION:Life-skills\, or daily living skills\, are abilities that our loved ones with intellectual and developmental disabilities need to achieve their highest level of independence. These include skills related to managing money\, personal hygiene\, medication management\, taking care of living spaces\, laundry\, cooking\, transportation\, and shopping. \nPlease join us for a three-workshop series for caregivers about supporting life-skills learning for children\, teens and young adults with intellectual or developmental disabilities. You will need to come to the workshop with at least one idea for a life-skill that you want your loved one to work on. \nWe will cover: \n· The process of teaching and reinforcing life-skills \n· The self-advocate’s perspective on the challenges in developing these skills \nWorkshop #2 is scheduled for May 23. Workshop #3 is scheduled for June 25. Please check back on the WIHD calendar of events for details. \nZoom Registration Link: Click here
URL:https://www.wihd.org/event/life-skills-workshop-series/
LOCATION:Zoom
CATEGORIES:Regional,Virtual Stream,WIHD
END:VEVENT
END:VCALENDAR