BEGIN:VCALENDAR
VERSION:2.0
PRODID:-//Westchester Institute for Human Development - ECPv6.0.10//NONSGML v1.0//EN
CALSCALE:GREGORIAN
METHOD:PUBLISH
X-ORIGINAL-URL:https://www.wihd.org
X-WR-CALDESC:Events for Westchester Institute for Human Development
REFRESH-INTERVAL;VALUE=DURATION:PT1H
X-Robots-Tag:noindex
X-PUBLISHED-TTL:PT1H
BEGIN:VTIMEZONE
TZID:America/New_York
BEGIN:DAYLIGHT
TZOFFSETFROM:-0500
TZOFFSETTO:-0400
TZNAME:EDT
DTSTART:20240310T070000
END:DAYLIGHT
BEGIN:STANDARD
TZOFFSETFROM:-0400
TZOFFSETTO:-0500
TZNAME:EST
DTSTART:20241103T060000
END:STANDARD
END:VTIMEZONE
BEGIN:VEVENT
DTSTART;TZID=America/New_York:20240417T120000
DTEND;TZID=America/New_York:20240417T130000
DTSTAMP:20260423T013328
CREATED:20240319T164248Z
LAST-MODIFIED:20240319T164248Z
UID:18535-1713355200-1713358800@www.wihd.org
SUMMARY:Monthly Decision Making Series  Workshop #2: Digging in to Supported Decision-Making
DESCRIPTION:Join us for our three-workshop series where we will present instruments and methods used to support loved ones with disabilities in making choices as they approach the age of adulthood. \nWorkshop #2: Digging in to Supported Decision-Making \nThis workshop is intended for individuals who have already attended our monthly Supported Decision Making\, Guardianship\, and other Alternatives workshop\, and want to know more about SDM. We will review Article 82\, the NY State supported decision making law\, and will answer SDM-specific questions. \nZoom Registration Link: Click Here
URL:https://www.wihd.org/event/monthly-decision-making-series-workshop-2-digging-in-to-supported-decision-making-5/
LOCATION:Zoom
CATEGORIES:Regional,Virtual Stream,WIHD
END:VEVENT
BEGIN:VEVENT
DTSTART;TZID=America/New_York:20240417T150000
DTEND;TZID=America/New_York:20240417T190000
DTSTAMP:20260423T013328
CREATED:20240306T203013Z
LAST-MODIFIED:20240410T201626Z
UID:18498-1713366000-1713380400@www.wihd.org
SUMMARY:Free Resource and Transition Fair
DESCRIPTION:SUPPORTS AND INFORMATION FOR NOW AND IN THE FUTURE:\nFor students of all ages with an IEP or 504 Plan\, families\, & professional.\nGroups are welcome!! \nClick Here:  Transition Fair Flier 2024
URL:https://www.wihd.org/event/rockland-transition-consortium-rockland-boces/
LOCATION:Palisades Center Community Rooms\, 1000 Palisades Center Drive\, West Nyack\, NY\, 10994\, United States
CATEGORIES:Regional,Virtual Stream,WIHD
END:VEVENT
END:VCALENDAR